BEGIN:VCALENDAR
VERSION:2.0
PRODID:-//The Council on Aging of Ottawa - ECPv6.15.18//NONSGML v1.0//EN
CALSCALE:GREGORIAN
METHOD:PUBLISH
X-ORIGINAL-URL:https://coaottawa.ca
X-WR-CALDESC:Events for The Council on Aging of Ottawa
REFRESH-INTERVAL;VALUE=DURATION:PT1H
X-Robots-Tag:noindex
X-PUBLISHED-TTL:PT1H
BEGIN:VTIMEZONE
TZID:America/Toronto
BEGIN:DAYLIGHT
TZOFFSETFROM:-0500
TZOFFSETTO:-0400
TZNAME:EDT
DTSTART:20250309T070000
END:DAYLIGHT
BEGIN:STANDARD
TZOFFSETFROM:-0400
TZOFFSETTO:-0500
TZNAME:EST
DTSTART:20251102T060000
END:STANDARD
BEGIN:DAYLIGHT
TZOFFSETFROM:-0500
TZOFFSETTO:-0400
TZNAME:EDT
DTSTART:20260308T070000
END:DAYLIGHT
BEGIN:STANDARD
TZOFFSETFROM:-0400
TZOFFSETTO:-0500
TZNAME:EST
DTSTART:20261101T060000
END:STANDARD
BEGIN:DAYLIGHT
TZOFFSETFROM:-0500
TZOFFSETTO:-0400
TZNAME:EDT
DTSTART:20270314T070000
END:DAYLIGHT
BEGIN:STANDARD
TZOFFSETFROM:-0400
TZOFFSETTO:-0500
TZNAME:EST
DTSTART:20271107T060000
END:STANDARD
BEGIN:DAYLIGHT
TZOFFSETFROM:-0500
TZOFFSETTO:-0400
TZNAME:EDT
DTSTART:20280312T070000
END:DAYLIGHT
BEGIN:STANDARD
TZOFFSETFROM:-0400
TZOFFSETTO:-0500
TZNAME:EST
DTSTART:20281105T060000
END:STANDARD
END:VTIMEZONE
BEGIN:VEVENT
DTSTART;TZID=America/Toronto:20260916T193000
DTEND;TZID=America/Toronto:20260916T203000
DTSTAMP:20260421T101128
CREATED:20260112T201435Z
LAST-MODIFIED:20260112T201446Z
UID:10002569-1789587000-1789590600@coaottawa.ca
SUMMARY:Ottawa PC Users' Group Q&A session
DESCRIPTION:The Ottawa PC Users’ Group will be hosting their weekly Q&A session through video-conference. This open forum helps fulfill our motto Users helping users. Everyone is welcome to present computer problems they are experiencing and we all try to help out with ideas. We also welcome any attendee offering suggestions on interesting things they have come across\, tips on using computers\, etc. \nGuests are welcome at these OPCUG events. You do not have to be a member to attend. \nAlthough attendees don’t need to be computer experts\, they should possess basic computer literacy to gain the best benefit from the sessions. \nhttps://opcug.ca/qa/ for details
URL:https://coaottawa.ca/community_event/ottawa-pc-users-group-qa-session/2026-09-16/
LOCATION:Online
CATEGORIES:Community Event
ATTACH;FMTTYPE=image/jpeg:https://coaottawa.ca/wp-content/uploads/2025/12/QA_Poster-1.jpg
END:VEVENT
BEGIN:VEVENT
DTSTART;TZID=America/Toronto:20260923T193000
DTEND;TZID=America/Toronto:20260923T203000
DTSTAMP:20260421T101128
CREATED:20260112T201435Z
LAST-MODIFIED:20260112T201446Z
UID:10002570-1790191800-1790195400@coaottawa.ca
SUMMARY:Ottawa PC Users' Group Q&A session
DESCRIPTION:The Ottawa PC Users’ Group will be hosting their weekly Q&A session through video-conference. This open forum helps fulfill our motto Users helping users. Everyone is welcome to present computer problems they are experiencing and we all try to help out with ideas. We also welcome any attendee offering suggestions on interesting things they have come across\, tips on using computers\, etc. \nGuests are welcome at these OPCUG events. You do not have to be a member to attend. \nAlthough attendees don’t need to be computer experts\, they should possess basic computer literacy to gain the best benefit from the sessions. \nhttps://opcug.ca/qa/ for details
URL:https://coaottawa.ca/community_event/ottawa-pc-users-group-qa-session/2026-09-23/
LOCATION:Online
CATEGORIES:Community Event
ATTACH;FMTTYPE=image/jpeg:https://coaottawa.ca/wp-content/uploads/2025/12/QA_Poster-1.jpg
END:VEVENT
BEGIN:VEVENT
DTSTART;TZID=America/Toronto:20260930T193000
DTEND;TZID=America/Toronto:20260930T203000
DTSTAMP:20260421T101128
CREATED:20260112T201435Z
LAST-MODIFIED:20260112T201446Z
UID:10002571-1790796600-1790800200@coaottawa.ca
SUMMARY:Ottawa PC Users' Group Q&A session
DESCRIPTION:The Ottawa PC Users’ Group will be hosting their weekly Q&A session through video-conference. This open forum helps fulfill our motto Users helping users. Everyone is welcome to present computer problems they are experiencing and we all try to help out with ideas. We also welcome any attendee offering suggestions on interesting things they have come across\, tips on using computers\, etc. \nGuests are welcome at these OPCUG events. You do not have to be a member to attend. \nAlthough attendees don’t need to be computer experts\, they should possess basic computer literacy to gain the best benefit from the sessions. \nhttps://opcug.ca/qa/ for details
URL:https://coaottawa.ca/community_event/ottawa-pc-users-group-qa-session/2026-09-30/
LOCATION:Online
CATEGORIES:Community Event
ATTACH;FMTTYPE=image/jpeg:https://coaottawa.ca/wp-content/uploads/2025/12/QA_Poster-1.jpg
END:VEVENT
BEGIN:VEVENT
DTSTART;TZID=America/Toronto:20261007T133000
DTEND;TZID=America/Toronto:20261007T150000
DTSTAMP:20260421T101128
CREATED:20260218T235941Z
LAST-MODIFIED:20260223T233133Z
UID:10002617-1791379800-1791385200@coaottawa.ca
SUMMARY:Ottawa Humane Society Auxiliary
DESCRIPTION:Are you an animal lover? Do you enjoy making crafts\, sewing\, knitting\, baking\, and/or connecting with others? \nEvery month\, the dedicated people of the Ottawa Humane Society Auxiliary meet to plan activities that support the organization’s work. You are warmly invited to attend and discover ways to share your talents and interests. We are primarily seniors\, but welcome all ages. \nFor more than 75 years\, the Auxiliary has proudly supported the Ottawa Humane Society. We make our high-quality handmade items all year long and this has enabled us to support animal care\, foster care\, adoptions\, medical treatment\, food\, and equipment. For more information\, contact auxiliaryinfo@ottawahumane.ca.
URL:https://coaottawa.ca/community_event/ottawa-humane-society-auxiliary/2026-10-07/
LOCATION:Ottawa Humane Society Animal Shelter\, 245 W Hunt Club Road\, Ottawa\, K2E 1A6
CATEGORIES:Community Event
ATTACH;FMTTYPE=image/jpeg:https://coaottawa.ca/wp-content/uploads/2026/02/Great-photo-of-Auxiliary-Event.jpg
ORGANIZER;CN="Ottawa Humane Society Auxiliary":MAILTO:auxillaryinfo@ottawahumane.ca
END:VEVENT
BEGIN:VEVENT
DTSTART;TZID=America/Toronto:20261007T193000
DTEND;TZID=America/Toronto:20261007T203000
DTSTAMP:20260421T101128
CREATED:20260112T201435Z
LAST-MODIFIED:20260112T201446Z
UID:10002572-1791401400-1791405000@coaottawa.ca
SUMMARY:Ottawa PC Users' Group Q&A session
DESCRIPTION:The Ottawa PC Users’ Group will be hosting their weekly Q&A session through video-conference. This open forum helps fulfill our motto Users helping users. Everyone is welcome to present computer problems they are experiencing and we all try to help out with ideas. We also welcome any attendee offering suggestions on interesting things they have come across\, tips on using computers\, etc. \nGuests are welcome at these OPCUG events. You do not have to be a member to attend. \nAlthough attendees don’t need to be computer experts\, they should possess basic computer literacy to gain the best benefit from the sessions. \nhttps://opcug.ca/qa/ for details
URL:https://coaottawa.ca/community_event/ottawa-pc-users-group-qa-session/2026-10-07/
LOCATION:Online
CATEGORIES:Community Event
ATTACH;FMTTYPE=image/jpeg:https://coaottawa.ca/wp-content/uploads/2025/12/QA_Poster-1.jpg
END:VEVENT
BEGIN:VEVENT
DTSTART;TZID=America/Toronto:20261021T193000
DTEND;TZID=America/Toronto:20261021T203000
DTSTAMP:20260421T101128
CREATED:20260112T201435Z
LAST-MODIFIED:20260112T201446Z
UID:10002573-1792611000-1792614600@coaottawa.ca
SUMMARY:Ottawa PC Users' Group Q&A session
DESCRIPTION:The Ottawa PC Users’ Group will be hosting their weekly Q&A session through video-conference. This open forum helps fulfill our motto Users helping users. Everyone is welcome to present computer problems they are experiencing and we all try to help out with ideas. We also welcome any attendee offering suggestions on interesting things they have come across\, tips on using computers\, etc. \nGuests are welcome at these OPCUG events. You do not have to be a member to attend. \nAlthough attendees don’t need to be computer experts\, they should possess basic computer literacy to gain the best benefit from the sessions. \nhttps://opcug.ca/qa/ for details
URL:https://coaottawa.ca/community_event/ottawa-pc-users-group-qa-session/2026-10-21/
LOCATION:Online
CATEGORIES:Community Event
ATTACH;FMTTYPE=image/jpeg:https://coaottawa.ca/wp-content/uploads/2025/12/QA_Poster-1.jpg
END:VEVENT
BEGIN:VEVENT
DTSTART;TZID=America/Toronto:20261028T193000
DTEND;TZID=America/Toronto:20261028T203000
DTSTAMP:20260421T101128
CREATED:20260112T201435Z
LAST-MODIFIED:20260112T201446Z
UID:10002574-1793215800-1793219400@coaottawa.ca
SUMMARY:Ottawa PC Users' Group Q&A session
DESCRIPTION:The Ottawa PC Users’ Group will be hosting their weekly Q&A session through video-conference. This open forum helps fulfill our motto Users helping users. Everyone is welcome to present computer problems they are experiencing and we all try to help out with ideas. We also welcome any attendee offering suggestions on interesting things they have come across\, tips on using computers\, etc. \nGuests are welcome at these OPCUG events. You do not have to be a member to attend. \nAlthough attendees don’t need to be computer experts\, they should possess basic computer literacy to gain the best benefit from the sessions. \nhttps://opcug.ca/qa/ for details
URL:https://coaottawa.ca/community_event/ottawa-pc-users-group-qa-session/2026-10-28/
LOCATION:Online
CATEGORIES:Community Event
ATTACH;FMTTYPE=image/jpeg:https://coaottawa.ca/wp-content/uploads/2025/12/QA_Poster-1.jpg
END:VEVENT
BEGIN:VEVENT
DTSTART;TZID=America/Toronto:20261104T133000
DTEND;TZID=America/Toronto:20261104T150000
DTSTAMP:20260421T101128
CREATED:20260218T235941Z
LAST-MODIFIED:20260223T233133Z
UID:10002618-1793799000-1793804400@coaottawa.ca
SUMMARY:Ottawa Humane Society Auxiliary
DESCRIPTION:Are you an animal lover? Do you enjoy making crafts\, sewing\, knitting\, baking\, and/or connecting with others? \nEvery month\, the dedicated people of the Ottawa Humane Society Auxiliary meet to plan activities that support the organization’s work. You are warmly invited to attend and discover ways to share your talents and interests. We are primarily seniors\, but welcome all ages. \nFor more than 75 years\, the Auxiliary has proudly supported the Ottawa Humane Society. We make our high-quality handmade items all year long and this has enabled us to support animal care\, foster care\, adoptions\, medical treatment\, food\, and equipment. For more information\, contact auxiliaryinfo@ottawahumane.ca.
URL:https://coaottawa.ca/community_event/ottawa-humane-society-auxiliary/2026-11-04/
LOCATION:Ottawa Humane Society Animal Shelter\, 245 W Hunt Club Road\, Ottawa\, K2E 1A6
CATEGORIES:Community Event
ATTACH;FMTTYPE=image/jpeg:https://coaottawa.ca/wp-content/uploads/2026/02/Great-photo-of-Auxiliary-Event.jpg
ORGANIZER;CN="Ottawa Humane Society Auxiliary":MAILTO:auxillaryinfo@ottawahumane.ca
END:VEVENT
BEGIN:VEVENT
DTSTART;TZID=America/Toronto:20261104T193000
DTEND;TZID=America/Toronto:20261104T203000
DTSTAMP:20260421T101128
CREATED:20260112T201435Z
LAST-MODIFIED:20260112T201446Z
UID:10002575-1793820600-1793824200@coaottawa.ca
SUMMARY:Ottawa PC Users' Group Q&A session
DESCRIPTION:The Ottawa PC Users’ Group will be hosting their weekly Q&A session through video-conference. This open forum helps fulfill our motto Users helping users. Everyone is welcome to present computer problems they are experiencing and we all try to help out with ideas. We also welcome any attendee offering suggestions on interesting things they have come across\, tips on using computers\, etc. \nGuests are welcome at these OPCUG events. You do not have to be a member to attend. \nAlthough attendees don’t need to be computer experts\, they should possess basic computer literacy to gain the best benefit from the sessions. \nhttps://opcug.ca/qa/ for details
URL:https://coaottawa.ca/community_event/ottawa-pc-users-group-qa-session/2026-11-04/
LOCATION:Online
CATEGORIES:Community Event
ATTACH;FMTTYPE=image/jpeg:https://coaottawa.ca/wp-content/uploads/2025/12/QA_Poster-1.jpg
END:VEVENT
BEGIN:VEVENT
DTSTART;TZID=America/Toronto:20261118T193000
DTEND;TZID=America/Toronto:20261118T203000
DTSTAMP:20260421T101128
CREATED:20260112T201435Z
LAST-MODIFIED:20260112T201446Z
UID:10002576-1795030200-1795033800@coaottawa.ca
SUMMARY:Ottawa PC Users' Group Q&A session
DESCRIPTION:The Ottawa PC Users’ Group will be hosting their weekly Q&A session through video-conference. This open forum helps fulfill our motto Users helping users. Everyone is welcome to present computer problems they are experiencing and we all try to help out with ideas. We also welcome any attendee offering suggestions on interesting things they have come across\, tips on using computers\, etc. \nGuests are welcome at these OPCUG events. You do not have to be a member to attend. \nAlthough attendees don’t need to be computer experts\, they should possess basic computer literacy to gain the best benefit from the sessions. \nhttps://opcug.ca/qa/ for details
URL:https://coaottawa.ca/community_event/ottawa-pc-users-group-qa-session/2026-11-18/
LOCATION:Online
CATEGORIES:Community Event
ATTACH;FMTTYPE=image/jpeg:https://coaottawa.ca/wp-content/uploads/2025/12/QA_Poster-1.jpg
END:VEVENT
BEGIN:VEVENT
DTSTART;TZID=America/Toronto:20261125T193000
DTEND;TZID=America/Toronto:20261125T203000
DTSTAMP:20260421T101128
CREATED:20260112T201435Z
LAST-MODIFIED:20260112T201446Z
UID:10002577-1795635000-1795638600@coaottawa.ca
SUMMARY:Ottawa PC Users' Group Q&A session
DESCRIPTION:The Ottawa PC Users’ Group will be hosting their weekly Q&A session through video-conference. This open forum helps fulfill our motto Users helping users. Everyone is welcome to present computer problems they are experiencing and we all try to help out with ideas. We also welcome any attendee offering suggestions on interesting things they have come across\, tips on using computers\, etc. \nGuests are welcome at these OPCUG events. You do not have to be a member to attend. \nAlthough attendees don’t need to be computer experts\, they should possess basic computer literacy to gain the best benefit from the sessions. \nhttps://opcug.ca/qa/ for details
URL:https://coaottawa.ca/community_event/ottawa-pc-users-group-qa-session/2026-11-25/
LOCATION:Online
CATEGORIES:Community Event
ATTACH;FMTTYPE=image/jpeg:https://coaottawa.ca/wp-content/uploads/2025/12/QA_Poster-1.jpg
END:VEVENT
BEGIN:VEVENT
DTSTART;TZID=America/Toronto:20261202T193000
DTEND;TZID=America/Toronto:20261202T203000
DTSTAMP:20260421T101128
CREATED:20260112T201435Z
LAST-MODIFIED:20260112T201446Z
UID:10002578-1796239800-1796243400@coaottawa.ca
SUMMARY:Ottawa PC Users' Group Q&A session
DESCRIPTION:The Ottawa PC Users’ Group will be hosting their weekly Q&A session through video-conference. This open forum helps fulfill our motto Users helping users. Everyone is welcome to present computer problems they are experiencing and we all try to help out with ideas. We also welcome any attendee offering suggestions on interesting things they have come across\, tips on using computers\, etc. \nGuests are welcome at these OPCUG events. You do not have to be a member to attend. \nAlthough attendees don’t need to be computer experts\, they should possess basic computer literacy to gain the best benefit from the sessions. \nhttps://opcug.ca/qa/ for details
URL:https://coaottawa.ca/community_event/ottawa-pc-users-group-qa-session/2026-12-02/
LOCATION:Online
CATEGORIES:Community Event
ATTACH;FMTTYPE=image/jpeg:https://coaottawa.ca/wp-content/uploads/2025/12/QA_Poster-1.jpg
END:VEVENT
BEGIN:VEVENT
DTSTART;TZID=America/Toronto:20261216T193000
DTEND;TZID=America/Toronto:20261216T203000
DTSTAMP:20260421T101128
CREATED:20260112T201435Z
LAST-MODIFIED:20260112T201446Z
UID:10002579-1797449400-1797453000@coaottawa.ca
SUMMARY:Ottawa PC Users' Group Q&A session
DESCRIPTION:The Ottawa PC Users’ Group will be hosting their weekly Q&A session through video-conference. This open forum helps fulfill our motto Users helping users. Everyone is welcome to present computer problems they are experiencing and we all try to help out with ideas. We also welcome any attendee offering suggestions on interesting things they have come across\, tips on using computers\, etc. \nGuests are welcome at these OPCUG events. You do not have to be a member to attend. \nAlthough attendees don’t need to be computer experts\, they should possess basic computer literacy to gain the best benefit from the sessions. \nhttps://opcug.ca/qa/ for details
URL:https://coaottawa.ca/community_event/ottawa-pc-users-group-qa-session/2026-12-16/
LOCATION:Online
CATEGORIES:Community Event
ATTACH;FMTTYPE=image/jpeg:https://coaottawa.ca/wp-content/uploads/2025/12/QA_Poster-1.jpg
END:VEVENT
BEGIN:VEVENT
DTSTART;TZID=America/Toronto:20261223T193000
DTEND;TZID=America/Toronto:20261223T203000
DTSTAMP:20260421T101128
CREATED:20260112T201435Z
LAST-MODIFIED:20260112T201446Z
UID:10002580-1798054200-1798057800@coaottawa.ca
SUMMARY:Ottawa PC Users' Group Q&A session
DESCRIPTION:The Ottawa PC Users’ Group will be hosting their weekly Q&A session through video-conference. This open forum helps fulfill our motto Users helping users. Everyone is welcome to present computer problems they are experiencing and we all try to help out with ideas. We also welcome any attendee offering suggestions on interesting things they have come across\, tips on using computers\, etc. \nGuests are welcome at these OPCUG events. You do not have to be a member to attend. \nAlthough attendees don’t need to be computer experts\, they should possess basic computer literacy to gain the best benefit from the sessions. \nhttps://opcug.ca/qa/ for details
URL:https://coaottawa.ca/community_event/ottawa-pc-users-group-qa-session/2026-12-23/
LOCATION:Online
CATEGORIES:Community Event
ATTACH;FMTTYPE=image/jpeg:https://coaottawa.ca/wp-content/uploads/2025/12/QA_Poster-1.jpg
END:VEVENT
BEGIN:VEVENT
DTSTART;TZID=America/Toronto:20261230T193000
DTEND;TZID=America/Toronto:20261230T203000
DTSTAMP:20260421T101128
CREATED:20260112T201435Z
LAST-MODIFIED:20260112T201446Z
UID:10002581-1798659000-1798662600@coaottawa.ca
SUMMARY:Ottawa PC Users' Group Q&A session
DESCRIPTION:The Ottawa PC Users’ Group will be hosting their weekly Q&A session through video-conference. This open forum helps fulfill our motto Users helping users. Everyone is welcome to present computer problems they are experiencing and we all try to help out with ideas. We also welcome any attendee offering suggestions on interesting things they have come across\, tips on using computers\, etc. \nGuests are welcome at these OPCUG events. You do not have to be a member to attend. \nAlthough attendees don’t need to be computer experts\, they should possess basic computer literacy to gain the best benefit from the sessions. \nhttps://opcug.ca/qa/ for details
URL:https://coaottawa.ca/community_event/ottawa-pc-users-group-qa-session/2026-12-30/
LOCATION:Online
CATEGORIES:Community Event
ATTACH;FMTTYPE=image/jpeg:https://coaottawa.ca/wp-content/uploads/2025/12/QA_Poster-1.jpg
END:VEVENT
BEGIN:VEVENT
DTSTART;TZID=America/Toronto:20270106T193000
DTEND;TZID=America/Toronto:20270106T203000
DTSTAMP:20260421T101128
CREATED:20260112T201435Z
LAST-MODIFIED:20260112T201446Z
UID:10002582-1799263800-1799267400@coaottawa.ca
SUMMARY:Ottawa PC Users' Group Q&A session
DESCRIPTION:The Ottawa PC Users’ Group will be hosting their weekly Q&A session through video-conference. This open forum helps fulfill our motto Users helping users. Everyone is welcome to present computer problems they are experiencing and we all try to help out with ideas. We also welcome any attendee offering suggestions on interesting things they have come across\, tips on using computers\, etc. \nGuests are welcome at these OPCUG events. You do not have to be a member to attend. \nAlthough attendees don’t need to be computer experts\, they should possess basic computer literacy to gain the best benefit from the sessions. \nhttps://opcug.ca/qa/ for details
URL:https://coaottawa.ca/community_event/ottawa-pc-users-group-qa-session/2027-01-06/
LOCATION:Online
CATEGORIES:Community Event
ATTACH;FMTTYPE=image/jpeg:https://coaottawa.ca/wp-content/uploads/2025/12/QA_Poster-1.jpg
END:VEVENT
END:VCALENDAR